BEGIN:VCALENDAR
VERSION:2.0
PRODID:-//Hampshire Scouts - ECPv6.15.20//NONSGML v1.0//EN
CALSCALE:GREGORIAN
METHOD:PUBLISH
X-ORIGINAL-URL:https://members.hampshirescouts.org.uk
X-WR-CALDESC:Events for Hampshire Scouts
REFRESH-INTERVAL;VALUE=DURATION:PT1H
X-Robots-Tag:noindex
X-PUBLISHED-TTL:PT1H
BEGIN:VTIMEZONE
TZID:Europe/London
BEGIN:DAYLIGHT
TZOFFSETFROM:+0000
TZOFFSETTO:+0100
TZNAME:BST
DTSTART:20250330T010000
END:DAYLIGHT
BEGIN:STANDARD
TZOFFSETFROM:+0100
TZOFFSETTO:+0000
TZNAME:GMT
DTSTART:20251026T010000
END:STANDARD
BEGIN:DAYLIGHT
TZOFFSETFROM:+0000
TZOFFSETTO:+0100
TZNAME:BST
DTSTART:20260329T010000
END:DAYLIGHT
BEGIN:STANDARD
TZOFFSETFROM:+0100
TZOFFSETTO:+0000
TZNAME:GMT
DTSTART:20261025T010000
END:STANDARD
BEGIN:DAYLIGHT
TZOFFSETFROM:+0000
TZOFFSETTO:+0100
TZNAME:BST
DTSTART:20270328T010000
END:DAYLIGHT
BEGIN:STANDARD
TZOFFSETFROM:+0100
TZOFFSETTO:+0000
TZNAME:GMT
DTSTART:20271031T010000
END:STANDARD
END:VTIMEZONE
BEGIN:VEVENT
DTSTART;TZID=Europe/London:20260606T090000
DTEND;TZID=Europe/London:20260606T160000
DTSTAMP:20260421T164012
CREATED:20260303T153008Z
LAST-MODIFIED:20260303T153028Z
UID:24404-1780736400-1780761600@members.hampshirescouts.org.uk
SUMMARY:GLV/Group Chair Conference - The Hub\, Basingstoke
DESCRIPTION:
URL:https://members.hampshirescouts.org.uk/event/glv-group-chair-conference-the-hub-basingstoke
LOCATION:Eastleigh
CATEGORIES:County Leadership Team
END:VEVENT
BEGIN:VEVENT
DTSTART;VALUE=DATE:20260628
DTEND;VALUE=DATE:20260629
DTSTAMP:20260421T164012
CREATED:20260303T154050Z
LAST-MODIFIED:20260308T130329Z
UID:24412-1782604800-1782691199@members.hampshirescouts.org.uk
SUMMARY:AGM
DESCRIPTION:
URL:https://members.hampshirescouts.org.uk/event/agm
LOCATION:Ferny Crofts Activity Centre
CATEGORIES:County Trustee Board
END:VEVENT
END:VCALENDAR