BEGIN:VCALENDAR
VERSION:2.0
PRODID:-//Hampshire Scouts - ECPv6.15.20//NONSGML v1.0//EN
CALSCALE:GREGORIAN
METHOD:PUBLISH
X-ORIGINAL-URL:https://members.hampshirescouts.org.uk
X-WR-CALDESC:Events for Hampshire Scouts
REFRESH-INTERVAL;VALUE=DURATION:PT1H
X-Robots-Tag:noindex
X-PUBLISHED-TTL:PT1H
BEGIN:VTIMEZONE
TZID:Europe/London
BEGIN:DAYLIGHT
TZOFFSETFROM:+0000
TZOFFSETTO:+0100
TZNAME:BST
DTSTART:20230326T010000
END:DAYLIGHT
BEGIN:STANDARD
TZOFFSETFROM:+0100
TZOFFSETTO:+0000
TZNAME:GMT
DTSTART:20231029T010000
END:STANDARD
BEGIN:DAYLIGHT
TZOFFSETFROM:+0000
TZOFFSETTO:+0100
TZNAME:BST
DTSTART:20240331T010000
END:DAYLIGHT
BEGIN:STANDARD
TZOFFSETFROM:+0100
TZOFFSETTO:+0000
TZNAME:GMT
DTSTART:20241027T010000
END:STANDARD
BEGIN:DAYLIGHT
TZOFFSETFROM:+0000
TZOFFSETTO:+0100
TZNAME:BST
DTSTART:20250330T010000
END:DAYLIGHT
BEGIN:STANDARD
TZOFFSETFROM:+0100
TZOFFSETTO:+0000
TZNAME:GMT
DTSTART:20251026T010000
END:STANDARD
BEGIN:DAYLIGHT
TZOFFSETFROM:+0000
TZOFFSETTO:+0100
TZNAME:BST
DTSTART:20260329T010000
END:DAYLIGHT
BEGIN:STANDARD
TZOFFSETFROM:+0100
TZOFFSETTO:+0000
TZNAME:GMT
DTSTART:20261025T010000
END:STANDARD
BEGIN:DAYLIGHT
TZOFFSETFROM:+0000
TZOFFSETTO:+0100
TZNAME:BST
DTSTART:20270328T010000
END:DAYLIGHT
BEGIN:STANDARD
TZOFFSETFROM:+0100
TZOFFSETTO:+0000
TZNAME:GMT
DTSTART:20271031T010000
END:STANDARD
END:VTIMEZONE
BEGIN:VEVENT
DTSTART;TZID=Europe/London:20260418T103000
DTEND;TZID=Europe/London:20260418T153000
DTSTAMP:20260421T162921
CREATED:20260331T002139Z
LAST-MODIFIED:20260331T002139Z
UID:24654-1776508200-1776526200@members.hampshirescouts.org.uk
SUMMARY:Neurodiversity Awareness Workshop
DESCRIPTION:
URL:https://members.hampshirescouts.org.uk/event/neurodiversity-awareness-workshop
LOCATION:12th Andover\, West Portway Bus Est\, Andover\, SP10 3LF\, United Kingdom
CATEGORIES:Adult Learning
END:VEVENT
BEGIN:VEVENT
DTSTART;TZID=Europe/London:20260304T090000
DTEND;TZID=Europe/London:20260304T163000
DTSTAMP:20260421T162921
CREATED:20260302T194055Z
LAST-MODIFIED:20260303T154258Z
UID:24389-1772614800-1772641800@members.hampshirescouts.org.uk
SUMMARY:Spring County Conference
DESCRIPTION:
URL:https://members.hampshirescouts.org.uk/event/county-conference
LOCATION:Ferny Crofts Activity Centre
CATEGORIES:County Trustee Board,County Leadership Team
END:VEVENT
BEGIN:VEVENT
DTSTART;VALUE=DATE:20241212
DTEND;VALUE=DATE:20241213
DTSTAMP:20260421T162921
CREATED:20231217T042018Z
LAST-MODIFIED:20231217T042018Z
UID:23525-1733961600-1734047999@members.hampshirescouts.org.uk
SUMMARY:CLT Dinner
DESCRIPTION:
URL:https://members.hampshirescouts.org.uk/event/clt-dinner
LOCATION:SP10 3LF
CATEGORIES:County Leadership Team
END:VEVENT
BEGIN:VEVENT
DTSTART;VALUE=DATE:20241209
DTEND;VALUE=DATE:20241210
DTSTAMP:20260421T162921
CREATED:20240105T001101Z
LAST-MODIFIED:20240105T001101Z
UID:24330-1733702400-1733788799@members.hampshirescouts.org.uk
SUMMARY:County Award Submission Deadline (Q4)
DESCRIPTION:
URL:https://members.hampshirescouts.org.uk/event/county-award-submission-deadline-q4
LOCATION:SP10 3LF
CATEGORIES:Awards and Recognition
END:VEVENT
BEGIN:VEVENT
DTSTART;VALUE=DATE:20241203
DTEND;VALUE=DATE:20241204
DTSTAMP:20260421T162921
CREATED:20231217T024156Z
LAST-MODIFIED:20231218T003845Z
UID:23427-1733184000-1733270399@members.hampshirescouts.org.uk
SUMMARY:County Trustee Board
DESCRIPTION:
URL:https://members.hampshirescouts.org.uk/event/county-trustee-board-6
LOCATION:Zoom
CATEGORIES:County Trustee Board
END:VEVENT
BEGIN:VEVENT
DTSTART;VALUE=DATE:20241115
DTEND;VALUE=DATE:20241118
DTSTAMP:20260421T162921
CREATED:20231223T123401Z
LAST-MODIFIED:20231223T123401Z
UID:24261-1731628800-1731887999@members.hampshirescouts.org.uk
SUMMARY:PL-APL Training Weekend
DESCRIPTION:
URL:https://members.hampshirescouts.org.uk/event/pl-apl-training-weekend
LOCATION:Lyons Copse Campsite
CATEGORIES:Scouts
END:VEVENT
BEGIN:VEVENT
DTSTART;VALUE=DATE:20241114
DTEND;VALUE=DATE:20241115
DTSTAMP:20260421T162921
CREATED:20231217T041956Z
LAST-MODIFIED:20231217T041956Z
UID:23523-1731542400-1731628799@members.hampshirescouts.org.uk
SUMMARY:CLT
DESCRIPTION:
URL:https://members.hampshirescouts.org.uk/event/clt-8
LOCATION:SP10 3LF
CATEGORIES:County Leadership Team
END:VEVENT
BEGIN:VEVENT
DTSTART;VALUE=DATE:20241018
DTEND;VALUE=DATE:20241019
DTSTAMP:20260421T162921
CREATED:20231217T041109Z
LAST-MODIFIED:20231217T154008Z
UID:23501-1729209600-1729295999@members.hampshirescouts.org.uk
SUMMARY:Fright Night 2024
DESCRIPTION:
URL:https://members.hampshirescouts.org.uk/event/ferny-crofts-fright-night-2024
LOCATION:Ferny Crofts Activity Centre
CATEGORIES:Beavers,Cubs,Scouts
END:VEVENT
BEGIN:VEVENT
DTSTART;VALUE=DATE:20241012
DTEND;VALUE=DATE:20241013
DTSTAMP:20260421T162921
CREATED:20231217T041645Z
LAST-MODIFIED:20231217T041645Z
UID:23507-1728691200-1728777599@members.hampshirescouts.org.uk
SUMMARY:County Conference (Autumn 2024)
DESCRIPTION:
URL:https://members.hampshirescouts.org.uk/event/county-conference-autumn-2024
LOCATION:SP10 3LF
CATEGORIES:County Leadership Team
END:VEVENT
BEGIN:VEVENT
DTSTART;VALUE=DATE:20241003
DTEND;VALUE=DATE:20241004
DTSTAMP:20260421T162921
CREATED:20231217T041935Z
LAST-MODIFIED:20231217T041935Z
UID:23521-1727913600-1727999999@members.hampshirescouts.org.uk
SUMMARY:CLT
DESCRIPTION:
URL:https://members.hampshirescouts.org.uk/event/clt-7
LOCATION:SP10 3LF
CATEGORIES:County Leadership Team
END:VEVENT
BEGIN:VEVENT
DTSTART;VALUE=DATE:20240920
DTEND;VALUE=DATE:20240923
DTSTAMP:20260421T162921
CREATED:20231219T222133Z
LAST-MODIFIED:20231219T222133Z
UID:24138-1726790400-1727049599@members.hampshirescouts.org.uk
SUMMARY:Emlyn Trophy
DESCRIPTION:
URL:https://members.hampshirescouts.org.uk/event/emlyn-trophy
LOCATION:Lyons Copse Campsite
CATEGORIES:Scouts
END:VEVENT
BEGIN:VEVENT
DTSTART;VALUE=DATE:20240917
DTEND;VALUE=DATE:20240918
DTSTAMP:20260421T162921
CREATED:20231217T024133Z
LAST-MODIFIED:20231218T003851Z
UID:23425-1726531200-1726617599@members.hampshirescouts.org.uk
SUMMARY:County Trustee Board
DESCRIPTION:
URL:https://members.hampshirescouts.org.uk/event/county-trustee-board-5
LOCATION:Zoom
CATEGORIES:County Trustee Board
END:VEVENT
BEGIN:VEVENT
DTSTART;VALUE=DATE:20240916
DTEND;VALUE=DATE:20240917
DTSTAMP:20260421T162921
CREATED:20240105T001021Z
LAST-MODIFIED:20240105T001021Z
UID:24328-1726444800-1726531199@members.hampshirescouts.org.uk
SUMMARY:County Award Submission Deadline (Q3)
DESCRIPTION:
URL:https://members.hampshirescouts.org.uk/event/county-award-submission-deadline-q3
LOCATION:SP10 3LF
CATEGORIES:Awards and Recognition
END:VEVENT
BEGIN:VEVENT
DTSTART;VALUE=DATE:20240914
DTEND;VALUE=DATE:20240916
DTSTAMP:20260421T162921
CREATED:20231217T042613Z
LAST-MODIFIED:20231217T042613Z
UID:23534-1726272000-1726444799@members.hampshirescouts.org.uk
SUMMARY:YL Training Residential (B-K)
DESCRIPTION:
URL:https://members.hampshirescouts.org.uk/event/yl-training-residential-b-k
LOCATION:SP10 3LF
CATEGORIES:Young Leaders
END:VEVENT
BEGIN:VEVENT
DTSTART;VALUE=DATE:20240905
DTEND;VALUE=DATE:20240906
DTSTAMP:20260421T162921
CREATED:20231217T041910Z
LAST-MODIFIED:20231217T041910Z
UID:23519-1725494400-1725580799@members.hampshirescouts.org.uk
SUMMARY:CLT
DESCRIPTION:
URL:https://members.hampshirescouts.org.uk/event/clt-6
LOCATION:SP10 3LF
CATEGORIES:County Leadership Team
END:VEVENT
BEGIN:VEVENT
DTSTART;VALUE=DATE:20240817
DTEND;VALUE=DATE:20240825
DTSTAMP:20260421T162921
CREATED:20231223T123201Z
LAST-MODIFIED:20231223T123201Z
UID:24259-1723852800-1724543999@members.hampshirescouts.org.uk
SUMMARY:Summer Camp
DESCRIPTION:
URL:https://members.hampshirescouts.org.uk/event/summer-camp
LOCATION:Lyons Copse Campsite
CATEGORIES:Scouts
END:VEVENT
BEGIN:VEVENT
DTSTART;TZID=Europe/London:20240722T080000
DTEND;TZID=Europe/London:20240805T170000
DTSTAMP:20260421T162921
CREATED:20231217T130435Z
LAST-MODIFIED:20231217T130435Z
UID:23776-1721635200-1722877200@members.hampshirescouts.org.uk
SUMMARY:Roverway 2024
DESCRIPTION:
URL:https://members.hampshirescouts.org.uk/event/roverway-2024
LOCATION:SP10 3LF
CATEGORIES:International
END:VEVENT
BEGIN:VEVENT
DTSTART;VALUE=DATE:20240716
DTEND;VALUE=DATE:20240717
DTSTAMP:20260421T162921
CREATED:20231217T024110Z
LAST-MODIFIED:20231218T003859Z
UID:23423-1721088000-1721174399@members.hampshirescouts.org.uk
SUMMARY:County Trustee Board
DESCRIPTION:
URL:https://members.hampshirescouts.org.uk/event/county-trustee-board-4
LOCATION:Zoom
CATEGORIES:County Trustee Board
END:VEVENT
BEGIN:VEVENT
DTSTART;VALUE=DATE:20240704
DTEND;VALUE=DATE:20240705
DTSTAMP:20260421T162921
CREATED:20231217T041846Z
LAST-MODIFIED:20231217T041846Z
UID:23517-1720051200-1720137599@members.hampshirescouts.org.uk
SUMMARY:CLT
DESCRIPTION:
URL:https://members.hampshirescouts.org.uk/event/clt-5
LOCATION:SP10 3LF
CATEGORIES:County Leadership Team
END:VEVENT
BEGIN:VEVENT
DTSTART;VALUE=DATE:20240630
DTEND;VALUE=DATE:20240701
DTSTAMP:20260421T162921
CREATED:20231217T024225Z
LAST-MODIFIED:20231217T041519Z
UID:23429-1719705600-1719791999@members.hampshirescouts.org.uk
SUMMARY:County AGM
DESCRIPTION:
URL:https://members.hampshirescouts.org.uk/event/county-agm
LOCATION:SP10 3LF
CATEGORIES:County Trustee Board
END:VEVENT
BEGIN:VEVENT
DTSTART;VALUE=DATE:20240617
DTEND;VALUE=DATE:20240618
DTSTAMP:20260421T162921
CREATED:20240105T000959Z
LAST-MODIFIED:20240105T000959Z
UID:24326-1718582400-1718668799@members.hampshirescouts.org.uk
SUMMARY:County Award Submission Deadline (Q2)
DESCRIPTION:
URL:https://members.hampshirescouts.org.uk/event/county-award-submission-deadline-q2
LOCATION:SP10 3LF
CATEGORIES:Awards and Recognition
END:VEVENT
BEGIN:VEVENT
DTSTART;VALUE=DATE:20240516
DTEND;VALUE=DATE:20240517
DTSTAMP:20260421T162921
CREATED:20231217T041823Z
LAST-MODIFIED:20231217T041823Z
UID:23515-1715817600-1715903999@members.hampshirescouts.org.uk
SUMMARY:CLT
DESCRIPTION:
URL:https://members.hampshirescouts.org.uk/event/clt-4
LOCATION:SP10 3LF
CATEGORIES:County Leadership Team
END:VEVENT
BEGIN:VEVENT
DTSTART;VALUE=DATE:20240514
DTEND;VALUE=DATE:20240515
DTSTAMP:20260421T162921
CREATED:20231217T024048Z
LAST-MODIFIED:20231218T003905Z
UID:23421-1715644800-1715731199@members.hampshirescouts.org.uk
SUMMARY:County Trustee Board
DESCRIPTION:
URL:https://members.hampshirescouts.org.uk/event/county-trustee-board-3
LOCATION:Zoom
CATEGORIES:County Trustee Board
END:VEVENT
BEGIN:VEVENT
DTSTART;VALUE=DATE:20240510
DTEND;VALUE=DATE:20240513
DTSTAMP:20260421T162921
CREATED:20231223T123131Z
LAST-MODIFIED:20231223T123131Z
UID:24257-1715299200-1715558399@members.hampshirescouts.org.uk
SUMMARY:Expedition Challenge
DESCRIPTION:
URL:https://members.hampshirescouts.org.uk/event/expedition-challenge
LOCATION:Ferny Crofts Activity Centre
CATEGORIES:Scouts
END:VEVENT
BEGIN:VEVENT
DTSTART;VALUE=DATE:20240427
DTEND;VALUE=DATE:20240429
DTSTAMP:20260421T162921
CREATED:20231217T152522Z
LAST-MODIFIED:20231217T152522Z
UID:24090-1714176000-1714348799@members.hampshirescouts.org.uk
SUMMARY:Skills for Residential Experiences
DESCRIPTION:
URL:https://members.hampshirescouts.org.uk/event/skills-for-residential-experiences
LOCATION:Ferny Crofts Activity Centre
CATEGORIES:Adult Learning
END:VEVENT
BEGIN:VEVENT
DTSTART;VALUE=DATE:20240426
DTEND;VALUE=DATE:20240429
DTSTAMP:20260421T162921
CREATED:20231217T203140Z
LAST-MODIFIED:20231217T203140Z
UID:24125-1714089600-1714348799@members.hampshirescouts.org.uk
SUMMARY:Pro-Badge (Camper or Survival Skills)
DESCRIPTION:
URL:https://members.hampshirescouts.org.uk/event/pro-badge-camper-or-survival-skills
LOCATION:Lyons Copse Campsite
CATEGORIES:Scouts,Pro-Badge
END:VEVENT
BEGIN:VEVENT
DTSTART;VALUE=DATE:20240426
DTEND;VALUE=DATE:20240429
DTSTAMP:20260421T162921
CREATED:20231217T203109Z
LAST-MODIFIED:20231217T203109Z
UID:24123-1714089600-1714348799@members.hampshirescouts.org.uk
SUMMARY:Pro-Badge (Chef and Backwoods Cooking)
DESCRIPTION:
URL:https://members.hampshirescouts.org.uk/event/pro-badge-chef-and-backwoods-cooking
LOCATION:Lyons Copse Campsite
CATEGORIES:Cubs,Pro-Badge
END:VEVENT
BEGIN:VEVENT
DTSTART;VALUE=DATE:20240424
DTEND;VALUE=DATE:20240425
DTSTAMP:20260421T162921
CREATED:20231217T044225Z
LAST-MODIFIED:20231217T044225Z
UID:23543-1713916800-1714003199@members.hampshirescouts.org.uk
SUMMARY:East Hampshire DofE Presentation
DESCRIPTION:
URL:https://members.hampshirescouts.org.uk/event/east-hampshire-dofe-presentation
LOCATION:SP10 3LF
CATEGORIES:Top Awards
END:VEVENT
BEGIN:VEVENT
DTSTART;VALUE=DATE:20240418
DTEND;VALUE=DATE:20240419
DTSTAMP:20260421T162921
CREATED:20231217T041802Z
LAST-MODIFIED:20231217T041802Z
UID:23513-1713398400-1713484799@members.hampshirescouts.org.uk
SUMMARY:CLT
DESCRIPTION:
URL:https://members.hampshirescouts.org.uk/event/clt-3
LOCATION:SP10 3LF
CATEGORIES:County Leadership Team
END:VEVENT
BEGIN:VEVENT
DTSTART;VALUE=DATE:20240413
DTEND;VALUE=DATE:20240414
DTSTAMP:20260421T162921
CREATED:20231217T041618Z
LAST-MODIFIED:20231217T041618Z
UID:23505-1712966400-1713052799@members.hampshirescouts.org.uk
SUMMARY:County Conference (Spring 2024)
DESCRIPTION:
URL:https://members.hampshirescouts.org.uk/event/county-conference-spring-2024
LOCATION:SP10 3LF
CATEGORIES:County Leadership Team
END:VEVENT
BEGIN:VEVENT
DTSTART;VALUE=DATE:20240323
DTEND;VALUE=DATE:20240325
DTSTAMP:20260421T162921
CREATED:20231217T152444Z
LAST-MODIFIED:20231217T152444Z
UID:24088-1711152000-1711324799@members.hampshirescouts.org.uk
SUMMARY:Residential Training Week (11\, 13\, 14\, 15\, 17\, 18)
DESCRIPTION:
URL:https://members.hampshirescouts.org.uk/event/residential-training-week-11-13-14-15-17-18
LOCATION:Ferny Crofts Activity Centre
CATEGORIES:Adult Learning
END:VEVENT
BEGIN:VEVENT
DTSTART;VALUE=DATE:20240319
DTEND;VALUE=DATE:20240320
DTSTAMP:20260421T162921
CREATED:20231217T024005Z
LAST-MODIFIED:20231218T003911Z
UID:23419-1710806400-1710892799@members.hampshirescouts.org.uk
SUMMARY:County Trustee Board
DESCRIPTION:
URL:https://members.hampshirescouts.org.uk/event/county-trustee-board-2
LOCATION:Zoom
CATEGORIES:County Trustee Board
END:VEVENT
BEGIN:VEVENT
DTSTART;VALUE=DATE:20240318
DTEND;VALUE=DATE:20240319
DTSTAMP:20260421T162921
CREATED:20240105T000749Z
LAST-MODIFIED:20240105T000938Z
UID:24320-1710720000-1710806399@members.hampshirescouts.org.uk
SUMMARY:County Award Submission Deadline (Q1)
DESCRIPTION:
URL:https://members.hampshirescouts.org.uk/event/county-award-submission-deadline
LOCATION:SP10 3LF
CATEGORIES:Awards and Recognition
END:VEVENT
BEGIN:VEVENT
DTSTART;VALUE=DATE:20240317
DTEND;VALUE=DATE:20240318
DTSTAMP:20260421T162921
CREATED:20231217T151711Z
LAST-MODIFIED:20231217T151920Z
UID:24078-1710633600-1710719999@members.hampshirescouts.org.uk
SUMMARY:M&S Training (Meeting the Challenges)
DESCRIPTION:
URL:https://members.hampshirescouts.org.uk/event/ms-training-meeting-the-challenges
LOCATION:Eastleigh
CATEGORIES:Adult Learning
END:VEVENT
BEGIN:VEVENT
DTSTART;VALUE=DATE:20240316
DTEND;VALUE=DATE:20240317
DTSTAMP:20260421T162921
CREATED:20231217T151641Z
LAST-MODIFIED:20231217T152302Z
UID:24076-1710547200-1710633599@members.hampshirescouts.org.uk
SUMMARY:M&S Training (Achieving Growth)
DESCRIPTION:
URL:https://members.hampshirescouts.org.uk/event/ms-training-achieving-growth
LOCATION:Eastleigh
CATEGORIES:Adult Learning
END:VEVENT
BEGIN:VEVENT
DTSTART;VALUE=DATE:20240316
DTEND;VALUE=DATE:20240317
DTSTAMP:20260421T162921
CREATED:20231217T040915Z
LAST-MODIFIED:20231217T154034Z
UID:23499-1710547200-1710633599@members.hampshirescouts.org.uk
SUMMARY:Mud Run 2024
DESCRIPTION:
URL:https://members.hampshirescouts.org.uk/event/ferny-mud-run-2024
LOCATION:Ferny Crofts Activity Centre
CATEGORIES:Beavers,Explorers,Cubs,Scouts,Network
END:VEVENT
BEGIN:VEVENT
DTSTART;VALUE=DATE:20240307
DTEND;VALUE=DATE:20240308
DTSTAMP:20260421T162921
CREATED:20231217T041744Z
LAST-MODIFIED:20231217T041744Z
UID:23511-1709769600-1709855999@members.hampshirescouts.org.uk
SUMMARY:CLT
DESCRIPTION:
URL:https://members.hampshirescouts.org.uk/event/clt-2
LOCATION:SP10 3LF
CATEGORIES:County Leadership Team
END:VEVENT
BEGIN:VEVENT
DTSTART;VALUE=DATE:20240303
DTEND;VALUE=DATE:20240304
DTSTAMP:20260421T162921
CREATED:20231220T184523Z
LAST-MODIFIED:20231220T184523Z
UID:24166-1709424000-1709510399@members.hampshirescouts.org.uk
SUMMARY:Top Trumps Competition 2024
DESCRIPTION:
URL:https://members.hampshirescouts.org.uk/event/top-trumps-competition-2024
LOCATION:7th Eastleigh Scout HQ
CATEGORIES:Cubs
END:VEVENT
BEGIN:VEVENT
DTSTART;TZID=Europe/London:20240302T080000
DTEND;TZID=Europe/London:20240303T170000
DTSTAMP:20260421T162921
CREATED:20231217T152350Z
LAST-MODIFIED:20231217T152404Z
UID:24085-1709366400-1709485200@members.hampshirescouts.org.uk
SUMMARY:Residential Training Week (5\, 7\, 8\, 9\, 12a\, 12b\, 16)
DESCRIPTION:
URL:https://members.hampshirescouts.org.uk/event/residential-training-week-5-7-8-9-12a-12b-16
LOCATION:Ferny Crofts Activity Centre
CATEGORIES:Adult Learning
END:VEVENT
BEGIN:VEVENT
DTSTART;VALUE=DATE:20240223
DTEND;VALUE=DATE:20240226
DTSTAMP:20260421T162921
CREATED:20231217T030545Z
LAST-MODIFIED:20231218T003708Z
UID:23463-1708646400-1708905599@members.hampshirescouts.org.uk
SUMMARY:Ferny Fest 2024
DESCRIPTION:
URL:https://members.hampshirescouts.org.uk/event/ferny-fest-2024
LOCATION:Ferny Crofts Activity Centre
CATEGORIES:Explorers
END:VEVENT
BEGIN:VEVENT
DTSTART;VALUE=DATE:20240216
DTEND;VALUE=DATE:20240219
DTSTAMP:20260421T162921
CREATED:20231217T203019Z
LAST-MODIFIED:20231217T203019Z
UID:24121-1708041600-1708300799@members.hampshirescouts.org.uk
SUMMARY:Pro-Badge (Navigator Stage 3)
DESCRIPTION:
URL:https://members.hampshirescouts.org.uk/event/pro-badge-navigator-stage-3
LOCATION:Lyons Copse Campsite
CATEGORIES:Scouts,Pro-Badge
END:VEVENT
BEGIN:VEVENT
DTSTART;VALUE=DATE:20240216
DTEND;VALUE=DATE:20240219
DTSTAMP:20260421T162921
CREATED:20231217T202942Z
LAST-MODIFIED:20231217T202942Z
UID:24119-1708041600-1708300799@members.hampshirescouts.org.uk
SUMMARY:Pro-Badge (Scientist or Navigator Stage 3)
DESCRIPTION:
URL:https://members.hampshirescouts.org.uk/event/pro-badge-scientist-or-navigator-stage-3
LOCATION:Lyons Copse Campsite
CATEGORIES:Cubs,Pro-Badge
END:VEVENT
BEGIN:VEVENT
DTSTART;VALUE=DATE:20240211
DTEND;VALUE=DATE:20240212
DTSTAMP:20260421T162921
CREATED:20231222T012745Z
LAST-MODIFIED:20231222T012745Z
UID:24180-1707609600-1707695999@members.hampshirescouts.org.uk
SUMMARY:Transformation Session
DESCRIPTION:
URL:https://members.hampshirescouts.org.uk/event/transformation-session-4
LOCATION:Eastleigh
END:VEVENT
BEGIN:VEVENT
DTSTART;VALUE=DATE:20240210
DTEND;VALUE=DATE:20240211
DTSTAMP:20260421T162921
CREATED:20231222T012723Z
LAST-MODIFIED:20231222T012723Z
UID:24177-1707523200-1707609599@members.hampshirescouts.org.uk
SUMMARY:Transformation Session
DESCRIPTION:
URL:https://members.hampshirescouts.org.uk/event/transformation-session-3
LOCATION:Portsmouth
END:VEVENT
BEGIN:VEVENT
DTSTART;VALUE=DATE:20240208
DTEND;VALUE=DATE:20240209
DTSTAMP:20260421T162921
CREATED:20231217T041732Z
LAST-MODIFIED:20231217T041732Z
UID:23509-1707350400-1707436799@members.hampshirescouts.org.uk
SUMMARY:CLT
DESCRIPTION:
URL:https://members.hampshirescouts.org.uk/event/clt
LOCATION:SP10 3LF
CATEGORIES:County Leadership Team
END:VEVENT
BEGIN:VEVENT
DTSTART;VALUE=DATE:20240204
DTEND;VALUE=DATE:20240205
DTSTAMP:20260421T162921
CREATED:20231217T044543Z
LAST-MODIFIED:20231218T003750Z
UID:23547-1707004800-1707091199@members.hampshirescouts.org.uk
SUMMARY:Explorer and Network Scout Leader Meeting
DESCRIPTION:
URL:https://members.hampshirescouts.org.uk/event/explorer-and-network-scout-leader-meeting-2
LOCATION:Zoom
CATEGORIES:Explorers,Young Leaders,Network,Top Awards
END:VEVENT
BEGIN:VEVENT
DTSTART;VALUE=DATE:20240126
DTEND;VALUE=DATE:20240129
DTSTAMP:20260421T162921
CREATED:20231217T033041Z
LAST-MODIFIED:20231217T041436Z
UID:23478-1706227200-1706486399@members.hampshirescouts.org.uk
SUMMARY:Young Leader Rally 2024
DESCRIPTION:
URL:https://members.hampshirescouts.org.uk/event/young-leader-rally-2024
LOCATION:SP10 3LF
CATEGORIES:Young Leaders
END:VEVENT
BEGIN:VEVENT
DTSTART;VALUE=DATE:20240123
DTEND;VALUE=DATE:20240124
DTSTAMP:20260421T162921
CREATED:20231217T023901Z
LAST-MODIFIED:20231218T003918Z
UID:23417-1705968000-1706054399@members.hampshirescouts.org.uk
SUMMARY:County Trustee Board
DESCRIPTION:
URL:https://members.hampshirescouts.org.uk/event/county-trustee-board
LOCATION:Zoom
CATEGORIES:County Trustee Board
END:VEVENT
BEGIN:VEVENT
DTSTART;VALUE=DATE:20240121
DTEND;VALUE=DATE:20240122
DTSTAMP:20260421T162921
CREATED:20231222T012704Z
LAST-MODIFIED:20231222T012704Z
UID:24175-1705795200-1705881599@members.hampshirescouts.org.uk
SUMMARY:Transformation Session
DESCRIPTION:
URL:https://members.hampshirescouts.org.uk/event/transformation-session-2
LOCATION:Basingstoke
END:VEVENT
BEGIN:VEVENT
DTSTART;VALUE=DATE:20240120
DTEND;VALUE=DATE:20240121
DTSTAMP:20260421T162921
CREATED:20231222T012647Z
LAST-MODIFIED:20231222T012653Z
UID:24172-1705708800-1705795199@members.hampshirescouts.org.uk
SUMMARY:Transformation Session
DESCRIPTION:
URL:https://members.hampshirescouts.org.uk/event/transformation-session
LOCATION:Basingstoke
END:VEVENT
BEGIN:VEVENT
DTSTART;VALUE=DATE:20240119
DTEND;VALUE=DATE:20240122
DTSTAMP:20260421T162921
CREATED:20231217T202843Z
LAST-MODIFIED:20231217T202843Z
UID:24116-1705622400-1705881599@members.hampshirescouts.org.uk
SUMMARY:Pro-Badge (Forester)
DESCRIPTION:
URL:https://members.hampshirescouts.org.uk/event/pro-badge-forester
LOCATION:Lyons Copse Campsite
CATEGORIES:Scouts,Pro-Badge
END:VEVENT
BEGIN:VEVENT
DTSTART;VALUE=DATE:20240119
DTEND;VALUE=DATE:20240122
DTSTAMP:20260421T162921
CREATED:20231217T202801Z
LAST-MODIFIED:20231217T202904Z
UID:24114-1705622400-1705881599@members.hampshirescouts.org.uk
SUMMARY:Pro-Badge (Pioneer)
DESCRIPTION:
URL:https://members.hampshirescouts.org.uk/event/pro-badge-pioneer
LOCATION:Lyons Copse Campsite
CATEGORIES:Cubs,Pro-Badge
END:VEVENT
BEGIN:VEVENT
DTSTART;VALUE=DATE:20240107
DTEND;VALUE=DATE:20240108
DTSTAMP:20260421T162921
CREATED:20231217T044455Z
LAST-MODIFIED:20231218T003803Z
UID:23545-1704585600-1704671999@members.hampshirescouts.org.uk
SUMMARY:Explorer and Network Scout Leader Meeting
DESCRIPTION:
URL:https://members.hampshirescouts.org.uk/event/explorer-and-network-scout-leader-meeting
LOCATION:Zoom
CATEGORIES:Explorers,Young Leaders,Network,Top Awards
END:VEVENT
BEGIN:VEVENT
DTSTART;VALUE=DATE:20240106
DTEND;VALUE=DATE:20240108
DTSTAMP:20260421T162921
CREATED:20231217T042405Z
LAST-MODIFIED:20231217T042544Z
UID:23530-1704499200-1704671999@members.hampshirescouts.org.uk
SUMMARY:YL Training Residential (B-J)
DESCRIPTION:
URL:https://members.hampshirescouts.org.uk/event/yl-training-residential-b-j
LOCATION:SP10 3LF
CATEGORIES:Young Leaders
END:VEVENT
BEGIN:VEVENT
DTSTART;VALUE=DATE:20240106
DTEND;VALUE=DATE:20240107
DTSTAMP:20260421T162921
CREATED:20231217T041258Z
LAST-MODIFIED:20231217T041422Z
UID:23503-1704499200-1704585599@members.hampshirescouts.org.uk
SUMMARY:County Strategy Day
DESCRIPTION:
URL:https://members.hampshirescouts.org.uk/event/county-strategy-day
LOCATION:SP10 3LF
CATEGORIES:County Leadership Team
END:VEVENT
BEGIN:VEVENT
DTSTART;VALUE=DATE:20240105
DTEND;VALUE=DATE:20240107
DTSTAMP:20260421T162921
CREATED:20231217T042258Z
LAST-MODIFIED:20231217T042432Z
UID:23527-1704412800-1704585599@members.hampshirescouts.org.uk
SUMMARY:YL Training Residential (B-J)
DESCRIPTION:
URL:https://members.hampshirescouts.org.uk/event/yl-training-residential
LOCATION:SP10 3LF
CATEGORIES:Young Leaders
END:VEVENT
END:VCALENDAR