BEGIN:VCALENDAR
VERSION:2.0
PRODID:-//Hampshire Scouts - ECPv6.15.20//NONSGML v1.0//EN
CALSCALE:GREGORIAN
METHOD:PUBLISH
X-WR-CALNAME:Hampshire Scouts
X-ORIGINAL-URL:https://members.hampshirescouts.org.uk
X-WR-CALDESC:Events for Hampshire Scouts
REFRESH-INTERVAL;VALUE=DURATION:PT1H
X-Robots-Tag:noindex
X-PUBLISHED-TTL:PT1H
BEGIN:VTIMEZONE
TZID:Europe/London
BEGIN:DAYLIGHT
TZOFFSETFROM:+0000
TZOFFSETTO:+0100
TZNAME:BST
DTSTART:20230326T010000
END:DAYLIGHT
BEGIN:STANDARD
TZOFFSETFROM:+0100
TZOFFSETTO:+0000
TZNAME:GMT
DTSTART:20231029T010000
END:STANDARD
BEGIN:DAYLIGHT
TZOFFSETFROM:+0000
TZOFFSETTO:+0100
TZNAME:BST
DTSTART:20240331T010000
END:DAYLIGHT
BEGIN:STANDARD
TZOFFSETFROM:+0100
TZOFFSETTO:+0000
TZNAME:GMT
DTSTART:20241027T010000
END:STANDARD
BEGIN:DAYLIGHT
TZOFFSETFROM:+0000
TZOFFSETTO:+0100
TZNAME:BST
DTSTART:20250330T010000
END:DAYLIGHT
BEGIN:STANDARD
TZOFFSETFROM:+0100
TZOFFSETTO:+0000
TZNAME:GMT
DTSTART:20251026T010000
END:STANDARD
END:VTIMEZONE
BEGIN:VEVENT
DTSTART;VALUE=DATE:20241115
DTEND;VALUE=DATE:20241118
DTSTAMP:20260421T222413
CREATED:20231223T123401Z
LAST-MODIFIED:20231223T123401Z
UID:24261-1731628800-1731887999@members.hampshirescouts.org.uk
SUMMARY:PL-APL Training Weekend
DESCRIPTION:
URL:https://members.hampshirescouts.org.uk/event/pl-apl-training-weekend
LOCATION:Lyons Copse Campsite
CATEGORIES:Scouts
END:VEVENT
BEGIN:VEVENT
DTSTART;VALUE=DATE:20241018
DTEND;VALUE=DATE:20241019
DTSTAMP:20260421T222413
CREATED:20231217T041109Z
LAST-MODIFIED:20231217T154008Z
UID:23501-1729209600-1729295999@members.hampshirescouts.org.uk
SUMMARY:Fright Night 2024
DESCRIPTION:
URL:https://members.hampshirescouts.org.uk/event/ferny-crofts-fright-night-2024
LOCATION:Ferny Crofts Activity Centre
CATEGORIES:Beavers,Cubs,Scouts
END:VEVENT
BEGIN:VEVENT
DTSTART;VALUE=DATE:20240920
DTEND;VALUE=DATE:20240923
DTSTAMP:20260421T222413
CREATED:20231219T222133Z
LAST-MODIFIED:20231219T222133Z
UID:24138-1726790400-1727049599@members.hampshirescouts.org.uk
SUMMARY:Emlyn Trophy
DESCRIPTION:
URL:https://members.hampshirescouts.org.uk/event/emlyn-trophy
LOCATION:Lyons Copse Campsite
CATEGORIES:Scouts
END:VEVENT
BEGIN:VEVENT
DTSTART;VALUE=DATE:20240817
DTEND;VALUE=DATE:20240825
DTSTAMP:20260421T222413
CREATED:20231223T123201Z
LAST-MODIFIED:20231223T123201Z
UID:24259-1723852800-1724543999@members.hampshirescouts.org.uk
SUMMARY:Summer Camp
DESCRIPTION:
URL:https://members.hampshirescouts.org.uk/event/summer-camp
LOCATION:Lyons Copse Campsite
CATEGORIES:Scouts
END:VEVENT
BEGIN:VEVENT
DTSTART;VALUE=DATE:20240510
DTEND;VALUE=DATE:20240513
DTSTAMP:20260421T222413
CREATED:20231223T123131Z
LAST-MODIFIED:20231223T123131Z
UID:24257-1715299200-1715558399@members.hampshirescouts.org.uk
SUMMARY:Expedition Challenge
DESCRIPTION:
URL:https://members.hampshirescouts.org.uk/event/expedition-challenge
LOCATION:Ferny Crofts Activity Centre
CATEGORIES:Scouts
END:VEVENT
BEGIN:VEVENT
DTSTART;VALUE=DATE:20240426
DTEND;VALUE=DATE:20240429
DTSTAMP:20260421T222413
CREATED:20231217T203140Z
LAST-MODIFIED:20231217T203140Z
UID:24125-1714089600-1714348799@members.hampshirescouts.org.uk
SUMMARY:Pro-Badge (Camper or Survival Skills)
DESCRIPTION:
URL:https://members.hampshirescouts.org.uk/event/pro-badge-camper-or-survival-skills
LOCATION:Lyons Copse Campsite
CATEGORIES:Scouts,Pro-Badge
END:VEVENT
BEGIN:VEVENT
DTSTART;VALUE=DATE:20240316
DTEND;VALUE=DATE:20240317
DTSTAMP:20260421T222413
CREATED:20231217T040915Z
LAST-MODIFIED:20231217T154034Z
UID:23499-1710547200-1710633599@members.hampshirescouts.org.uk
SUMMARY:Mud Run 2024
DESCRIPTION:
URL:https://members.hampshirescouts.org.uk/event/ferny-mud-run-2024
LOCATION:Ferny Crofts Activity Centre
CATEGORIES:Beavers,Explorers,Cubs,Scouts,Network
END:VEVENT
BEGIN:VEVENT
DTSTART;VALUE=DATE:20240216
DTEND;VALUE=DATE:20240219
DTSTAMP:20260421T222413
CREATED:20231217T203019Z
LAST-MODIFIED:20231217T203019Z
UID:24121-1708041600-1708300799@members.hampshirescouts.org.uk
SUMMARY:Pro-Badge (Navigator Stage 3)
DESCRIPTION:
URL:https://members.hampshirescouts.org.uk/event/pro-badge-navigator-stage-3
LOCATION:Lyons Copse Campsite
CATEGORIES:Scouts,Pro-Badge
END:VEVENT
BEGIN:VEVENT
DTSTART;VALUE=DATE:20240119
DTEND;VALUE=DATE:20240122
DTSTAMP:20260421T222413
CREATED:20231217T202843Z
LAST-MODIFIED:20231217T202843Z
UID:24116-1705622400-1705881599@members.hampshirescouts.org.uk
SUMMARY:Pro-Badge (Forester)
DESCRIPTION:
URL:https://members.hampshirescouts.org.uk/event/pro-badge-forester
LOCATION:Lyons Copse Campsite
CATEGORIES:Scouts,Pro-Badge
END:VEVENT
END:VCALENDAR